Workbook

Sheet Ark2

Sheet Ark1
B1: Opgavelisten (Tilføj opgaver I bunden af listen og husk at sortere efter enten kvartal eller måned baseret på valget)
B2: Dato | C2: Kvartal | D2: Måned | E2: Opgave | F2: Vægt
B3: 46023 | C3: =_xlfn.CEILING.MATH(MONTH(B3)/3) -> 1 | D3: =PROPER(TEXT(B3,"mmm")) -> Jan | E3: A | F3: 15
B4: 46023 | C4: =_xlfn.CEILING.MATH(MONTH(B4)/3) -> 1 | D4: =PROPER(TEXT(B4,"mmm")) -> Jan | E4: A | F4: 10
B5: 46113 | C5: =_xlfn.CEILING.MATH(MONTH(B5)/3) -> 2 | D5: =PROPER(TEXT(B5,"mmm")) -> Apr | E5: B | F5: 10
B6: 46113 | C6: =_xlfn.CEILING.MATH(MONTH(B6)/3) -> 2 | D6: =PROPER(TEXT(B6,"mmm")) -> Apr | E6: B | F6: 15
B7: 46204 | C7: =_xlfn.CEILING.MATH(MONTH(B7)/3) -> 3 | D7: =PROPER(TEXT(B7,"mmm")) -> Jul | E7: C | F7: 20
B8: 46204 | C8: =_xlfn.CEILING.MATH(MONTH(B8)/3) -> 3 | D8: =PROPER(TEXT(B8,"mmm")) -> Jul | E8: C | F8: 15
B9: 46296 | C9: =_xlfn.CEILING.MATH(MONTH(B9)/3) -> 4 | D9: =PROPER(TEXT(B9,"mmm")) -> Oct | E9: D | F9: 15
B10: 46296 | C10: =_xlfn.CEILING.MATH(MONTH(B10)/3) -> 4 | D10: =PROPER(TEXT(B10,"mmm")) -> Oct | E10: D | F10: 5

Sheet Ark3
A1: TRUE | B1: TRUE | C1: TRUE | D1: TRUE
A2: Kvartal | B2: Måned | C2: Opgave | D2: Vægt
A4: Kvartal | B4: Måned | C4: Opgave | D4: Vægt
A5: =IF(AND($A$1,'Ark1'!C3<>""),'Ark1'!C3,"") -> 1 | B5: =IF(AND($B$1,'Ark1'!D3<>""),'Ark1'!D3,"") -> Jan | C5: =IF(AND($C$1,'Ark1'!E3<>""),'Ark1'!E3,"") -> A | D5: =IF(AND($D$1,'Ark1'!F3<>""),'Ark1'!F3,"") -> 15
A6: =IF(AND($A$1,'Ark1'!C4<>""),'Ark1'!C4,"") -> 1 | B6: =IF(AND($B$1,'Ark1'!D4<>""),'Ark1'!D4,"") -> Jan | C6: =IF(AND($C$1,'Ark1'!E4<>""),'Ark1'!E4,"") -> A | D6: =IF(AND($D$1,'Ark1'!F4<>""),'Ark1'!F4,"") -> 10
A7: =IF(AND($A$1,'Ark1'!C5<>""),'Ark1'!C5,"") -> 2 | B7: =IF(AND($B$1,'Ark1'!D5<>""),'Ark1'!D5,"") -> Apr | C7: =IF(AND($C$1,'Ark1'!E5<>""),'Ark1'!E5,"") -> B | D7: =IF(AND($D$1,'Ark1'!F5<>""),'Ark1'!F5,"") -> 10
A8: =IF(AND($A$1,'Ark1'!C6<>""),'Ark1'!C6,"") -> 2 | B8: =IF(AND($B$1,'Ark1'!D6<>""),'Ark1'!D6,"") -> Apr | C8: =IF(AND($C$1,'Ark1'!E6<>""),'Ark1'!E6,"") -> B | D8: =IF(AND($D$1,'Ark1'!F6<>""),'Ark1'!F6,"") -> 15
A9: =IF(AND($A$1,'Ark1'!C7<>""),'Ark1'!C7,"") -> 3 | B9: =IF(AND($B$1,'Ark1'!D7<>""),'Ark1'!D7,"") -> Jul | C9: =IF(AND($C$1,'Ark1'!E7<>""),'Ark1'!E7,"") -> C | D9: =IF(AND($D$1,'Ark1'!F7<>""),'Ark1'!F7,"") -> 20
A10: =IF(AND($A$1,'Ark1'!C8<>""),'Ark1'!C8,"") -> 3 | B10: =IF(AND($B$1,'Ark1'!D8<>""),'Ark1'!D8,"") -> Jul | C10: =IF(AND($C$1,'Ark1'!E8<>""),'Ark1'!E8,"") -> C | D10: =IF(AND($D$1,'Ark1'!F8<>""),'Ark1'!F8,"") -> 15
A11: =IF(AND($A$1,'Ark1'!C9<>""),'Ark1'!C9,"") -> 4 | B11: =IF(AND($B$1,'Ark1'!D9<>""),'Ark1'!D9,"") -> Oct | C11: =IF(AND($C$1,'Ark1'!E9<>""),'Ark1'!E9,"") -> D | D11: =IF(AND($D$1,'Ark1'!F9<>""),'Ark1'!F9,"") -> 15
A12: =IF(AND($A$1,'Ark1'!C10<>""),'Ark1'!C10,"") -> 4 | B12: =IF(AND($B$1,'Ark1'!D10<>""),'Ark1'!D10,"") -> Oct | C12: =IF(AND($C$1,'Ark1'!E10<>""),'Ark1'!E10,"") -> D | D12: =IF(AND($D$1,'Ark1'!F10<>""),'Ark1'!F10,"") -> 5
A13: =IF(AND($A$1,'Ark1'!C11<>""),'Ark1'!C11,"") | B13: =IF(AND($B$1,'Ark1'!D11<>""),'Ark1'!D11,"") | C13: =IF(AND($C$1,'Ark1'!E11<>""),'Ark1'!E11,"") | D13: =IF(AND($D$1,'Ark1'!F11<>""),'Ark1'!F11,"")
A14: =IF(AND($A$1,'Ark1'!C12<>""),'Ark1'!C12,"") | B14: =IF(AND($B$1,'Ark1'!D12<>""),'Ark1'!D12,"") | C14: =IF(AND($C$1,'Ark1'!E12<>""),'Ark1'!E12,"") | D14: =IF(AND($D$1,'Ark1'!F12<>""),'Ark1'!F12,"")
A15: =IF(AND($A$1,'Ark1'!C13<>""),'Ark1'!C13,"") | B15: =IF(AND($B$1,'Ark1'!D13<>""),'Ark1'!D13,"") | C15: =IF(AND($C$1,'Ark1'!E13<>""),'Ark1'!E13,"") | D15: =IF(AND($D$1,'Ark1'!F13<>""),'Ark1'!F13,"")
A16: =IF(AND($A$1,'Ark1'!C14<>""),'Ark1'!C14,"") | B16: =IF(AND($B$1,'Ark1'!D14<>""),'Ark1'!D14,"") | C16: =IF(AND($C$1,'Ark1'!E14<>""),'Ark1'!E14,"") | D16: =IF(AND($D$1,'Ark1'!F14<>""),'Ark1'!F14,"")
... A10001: =IF(AND($A$1,'Ark1'!C9999<>""),'Ark1'!C9999,"") | B10001: =IF(AND($B$1,'Ark1'!D9999<>""),'Ark1'!D9999,"") | C10001: =IF(AND($C$1,'Ark1'!E9999<>""),'Ark1'!E9999,"") | D10001: =IF(AND($D$1,'Ark1'!F9999<>""),'Ark1'!F9999,"")
