Workbook
Name Måneder: [1]Budgetteret!$X$8:$X$19

Sheet Forside
A1: Opsætning
B3: Budgetår | C3: 2026
B4: Startmåned | C4: Januar
B5: Startsaldo i kroner | C5: 2000
A7: Dette materiale er beskyttet af danske og internationale regler om ophavsrettigheder Det følgende materiale er udviklet af PeopleNet A/S til undervisning foretaget af eller på vegne af PeopleNet A/S. Materialet må ikke kopieres til distribution uden foregående skriftlig accept af PeopleNet A/S.

Sheet Budget
C5: Total | D5: =Forside!$C$4 -> Januar | E5: =PROPER(TEXT(EDATE(1,1),"mmmm")) -> Februar | F5: =PROPER(TEXT(EDATE(1,1+1),"mmmm")) -> Marts | G5: =PROPER(TEXT(EDATE(1,2+1),"mmmm")) -> April | H5: =PROPER(TEXT(EDATE(1,3+1),"mmmm")) -> Maj | I5: =PROPER(TEXT(EDATE(1,1+4),"mmmm")) -> Juni | J5: =PROPER(TEXT(EDATE(1,1+5),"mmmm")) -> Juli | K5: =PROPER(TEXT(EDATE(1,1+6),"mmmm")) -> August | L5: =PROPER(TEXT(EDATE(1,1+7),"mmmm")) -> September | M5: =PROPER(TEXT(EDATE(1,1+8),"mmmm")) -> Oktober | N5: =PROPER(TEXT(EDATE(1,1+9),"mmmm")) -> November | O5: =PROPER(TEXT(EDATE(1,1+10),"mmmm")) -> December
A6: Indtægter:
A7: Produkt 1 | C7: =IF(COUNTA(D7:O7)=0,"",SUM(D7:O7)) -> 698681 | D7: 28300 | E7: 24544 | F7: 90481 | G7: 45699 | H7: 13050 | I7: 58764 | J7: 99487 | K7: 64291 | L7: 88035 | M7: 84923 | N7: 86349 | O7: 14758
A8: Produkt 2 | C8: =IF(COUNTA(D8:O8)=0,"",SUM(D8:O8)) -> 576350 | D8: 20063 | E8: 29059 | F8: 73760 | G8: 94618 | H8: 51664 | I8: 25229 | J8: 92763 | K8: 15942 | L8: 67052 | M8: 17194 | N8: 37907 | O8: 51099
A9: Produkt 3 | C9: =IF(COUNTA(D9:O9)=0,"",SUM(D9:O9)) -> 680148 | D9: 66776 | E9: 55594 | F9: 81688 | G9: 88916 | H9: 39114 | I9: 36825 | J9: 35134 | K9: 51783 | L9: 52447 | M9: 2862 | N9: 86464 | O9: 82545
A10: Produkt 4 | C10: =IF(COUNTA(D10:O10)=0,"",SUM(D10:O10)) -> 476868 | D10: 22821 | E10: 78528 | F10: 6742 | G10: 8548 | H10: 29041 | I10: 62414 | J10: 60533 | K10: 41071 | L10: 71899 | M10: 14373 | N10: 79045 | O10: 1853
A11: Produkt 5 | C11: =IF(COUNTA(D11:O11)=0,"",SUM(D11:O11)) -> 863740 | D11: 71375 | E11: 96303 | F11: 47044 | G11: 73098 | H11: 80832 | I11: 90454 | J11: 62997 | K11: 61405 | L11: 66262 | M11: 67967 | N11: 81701 | O11: 64302
A12: Produkt 6 | C12: =IF(COUNTA(D12:O12)=0,"",SUM(D12:O12)) -> 526780 | D12: 13914 | E12: 50191 | F12: 75672 | G12: 28192 | H12: 14569 | I12: 75788 | J12: 95840 | K12: 7633 | L12: 21648 | M12: 39813 | N12: 23181 | O12: 80339
A13: Produkt 7 | C13: =IF(COUNTA(D13:O13)=0,"",SUM(D13:O13)) -> 679092 | D13: 44965 | E13: 83642 | F13: 72227 | G13: 62801 | H13: 62478 | I13: 45598 | J13: 95097 | K13: 74279 | L13: 18429 | M13: 38785 | N13: 8095 | O13: 72696
A14: Produkt 8 | C14: =IF(COUNTA(D14:O14)=0,"",SUM(D14:O14)) -> 575697 | D14: 24260 | E14: 54968 | F14: 97565 | G14: 88913 | H14: 39712 | I14: 11485 | J14: 22460 | K14: 52120 | L14: 34675 | M14: 79879 | N14: 34521 | O14: 35139
A15: Samlede indtægter | C15: =SUM(C7:C14) -> 5077356 | D15: =SUM(D7:D14) -> 292474 | E15: =SUM(E7:E14) -> 472829 | F15: =SUM(F7:F14) -> 545179 | G15: =SUM(G7:G14) -> 490785 | H15: =SUM(H7:H14) -> 330460 | I15: =SUM(I7:I14) -> 406557 | J15: =SUM(J7:J14) -> 564311 | ... O15: =SUM(O7:O14) -> 402731
A16: Gennemsnits indtægt pr måned | D16: =AVERAGE(D15:O15) -> 423113
C18: Total | D18: =D5 -> Januar | E18: =E5 -> Februar | F18: =F5 -> Marts | G18: =G5 -> April | H18: =H5 -> Maj | I18: =I5 -> Juni | J18: =J5 -> Juli | K18: =K5 -> August | ... O18: =O5 -> December
A19: Udgifter:
A20: Udgift 1 | C20: =IF(COUNTA(D20:O20)=0,"",SUM(D20:O20)) -> 41987 | D20: 4367 | E20: 1194 | F20: 9139 | G20: 5023 | H20: 3021 | I20: 2139 | J20: 2347 | K20: 1607 | L20: 1633 | M20: 6015 | N20: 293 | O20: 5209
A21: Udgift 2 | C21: =IF(COUNTA(D21:O21)=0,"",SUM(D21:O21)) -> 53117 | D21: 7164 | E21: 2617 | F21: 159 | G21: 9594 | H21: 4254 | I21: 271 | J21: 8579 | K21: 6049 | L21: 8151 | M21: 1257 | N21: 2900 | O21: 2122
A22: Udgift 3 | C22: =IF(COUNTA(D22:O22)=0,"",SUM(D22:O22)) -> 72388 | D22: 2629 | E22: 6479 | F22: 4950 | G22: 2023 | H22: 360 | I22: 2542 | J22: 9854 | K22: 8982 | L22: 5587 | M22: 9505 | N22: 9991 | O22: 9486
A23: Udgift 4 | C23: =IF(COUNTA(D23:O23)=0,"",SUM(D23:O23)) -> 59644 | D23: 7108 | E23: 9806 | F23: 5833 | G23: 178 | H23: 9823 | I23: 2032 | J23: 2061 | K23: 764 | L23: 771 | M23: 8002 | N23: 5262 | O23: 8004
A24: Udgift 5 | C24: =IF(COUNTA(D24:O24)=0,"",SUM(D24:O24)) -> 75089 | D24: 2381 | E24: 4812 | F24: 8782 | G24: 8893 | H24: 4503 | I24: 5233 | J24: 7891 | K24: 7801 | L24: 1947 | M24: 6412 | N24: 7555 | O24: 8879
A25: Udgift 6 | C25: =IF(COUNTA(D25:O25)=0,"",SUM(D25:O25)) -> 73492 | D25: 1478 | E25: 8873 | F25: 9390 | G25: 9627 | H25: 5874 | I25: 673 | J25: 6627 | K25: 5442 | L25: 6913 | M25: 3209 | N25: 6389 | O25: 8997
A26: Udgift 7 | C26: =IF(COUNTA(D26:O26)=0,"",SUM(D26:O26)) -> 46096 | D26: 7142 | E26: 4071 | F26: 2022 | G26: 2388 | H26: 2634 | I26: 1204 | J26: 4721 | K26: 665 | L26: 1248 | M26: 6726 | N26: 7856 | O26: 5419
A27: Udgift 8 | C27: =IF(COUNTA(D27:O27)=0,"",SUM(D27:O27)) -> 62155 | D27: 8952 | E27: 9778 | F27: 9308 | G27: 1846 | H27: 1394 | I27: 6601 | J27: 5320 | K27: 3621 | L27: 5378 | M27: 7797 | N27: 785 | O27: 1375
A28: Udgift 9 | C28: =IF(COUNTA(D28:O28)=0,"",SUM(D28:O28)) -> 64548 | D28: 9756 | E28: 9166 | F28: 7842 | G28: 4732 | H28: 2886 | I28: 5956 | J28: 7056 | K28: 6685 | L28: 4261 | M28: 1151 | N28: 4951 | O28: 106
A29: Udgift 10 | C29: =IF(COUNTA(D29:O29)=0,"",SUM(D29:O29)) -> 57564 | D29: 7695 | E29: 9934 | F29: 5629 | G29: 5860 | H29: 8670 | I29: 34 | J29: 3848 | K29: 4281 | L29: 2316 | M29: 1036 | N29: 5391 | O29: 2870
A30: Udgift 11 | C30: =IF(COUNTA(D30:O30)=0,"",SUM(D30:O30)) -> 43971 | D30: 28 | E30: 3191 | F30: 7325 | G30: 7278 | H30: 4633 | I30: 2773 | J30: 1124 | K30: 9471 | L30: 2885 | M30: 1750 | N30: 3204 | O30: 309
A31: Udgift 12 | C31: =IF(COUNTA(D31:O31)=0,"",SUM(D31:O31)) -> 62911 | D31: 9554 | E31: 4443 | F31: 3900 | G31: 8688 | H31: 7247 | I31: 450 | J31: 2415 | K31: 1744 | L31: 7579 | M31: 7611 | N31: 2294 | O31: 6986
... A56: Udgift 37 | C56: =IF(COUNTA(D56:O56)=0,"",SUM(D56:O56)) -> 59131 | D56: 5690 | E56: 6030 | F56: 5300 | G56: 7340 | H56: 5127 | I56: 2484 | J56: 1685 | K56: 8527 | L56: 3969 | M56: 1789 | N56: 2438 | O56: 8752
A57: Udgift 38 | C57: =IF(COUNTA(D57:O57)=0,"",SUM(D57:O57))
A58: Udgift 39 | C58: =IF(COUNTA(D58:O58)=0,"",SUM(D58:O58))
A59: Udgift 40 | C59: =IF(COUNTA(D59:O59)=0,"",SUM(D59:O59))
A60: Samlede udgifter | C60: =SUM(C20:C59) -> 2170247 | D60: =SUM(D20:D59) -> 196660 | E60: =SUM(E20:E59) -> 212987 | F60: =SUM(F20:F59) -> 198639 | G60: =SUM(G20:G59) -> 193308 | H60: =SUM(H20:H59) -> 167645 | I60: =SUM(I20:I59) -> 137856 | J60: =SUM(J20:J59) -> 176870 | ... O60: =SUM(O20:O59) -> 171178
A61: Gennemsnits udgift per md: | D61: =AVERAGE(D60:O60) -> 180853.92
C63: I alt | D63: =D5 -> Januar | E63: =E5 -> Februar | F63: =F5 -> Marts | G63: =G5 -> April | H63: =H5 -> Maj | I63: =I5 -> Juni | J63: =J5 -> Juli | K63: =K5 -> August | ... O63: =O5 -> December
A65: Balance | C65: =C15-C60 -> 2907109 | D65: =D15-D60 -> 95814 | E65: =E15-E60 -> 259842 | F65: =F15-F60 -> 346540 | G65: =G15-G60 -> 297477 | H65: =H15-H60 -> 162815 | I65: =I15-I60 -> 268701 | J65: =J15-J60 -> 387441 | ... O65: =O15-O60 -> 231553
A67: Saldo ved starten af perioden | C67: =C15-C60 -> 2907109 | D67: =D15-D60 -> 95814 | E67: =E15-E60 -> 259842 | F67: =F15-F60 -> 346540 | G67: =G15-G60 -> 297477 | H67: =H15-H60 -> 162815 | I67: =I15-I60 -> 268701 | J67: =J15-J60 -> 387441 | ... O67: =O15-O60 -> 231553
A68: Saldo ved slutningen af perioden | C68: =O68 -> 463106 | D68: =SUM(D65+D67) -> 191628 | E68: =SUM(E65+E67) -> 519684 | F68: =SUM(F65+F67) -> 693080 | G68: =SUM(G65+G67) -> 594954 | H68: =SUM(H65+H67) -> 325630 | I68: =SUM(I65+I67) -> 537402 | J68: =SUM(J65+J67) -> 774882 | K68: =SUM(K65+K67) -> 335814 | ... O68: =SUM(O65+O67) -> 463106
A70: Ved dette budget anbefales det at indbetale | D70: kr om måneden
A71: I øjeblikket kan budgettet reguleres med i alt : | C71: =ROUND((C60-C15)/12,0) -> -242259 | D71: kr om måneden

Sheet Faktisk
C5: Total | D5: =Forside!$C$4 -> Januar | E5: =PROPER(TEXT(EDATE(1,1),"mmmm")) -> Februar | F5: =PROPER(TEXT(EDATE(1,1+1),"mmmm")) -> Marts | G5: =PROPER(TEXT(EDATE(1,2+1),"mmmm")) -> April | H5: =PROPER(TEXT(EDATE(1,3+1),"mmmm")) -> Maj | I5: =PROPER(TEXT(EDATE(1,1+4),"mmmm")) -> Juni | J5: =PROPER(TEXT(EDATE(1,1+5),"mmmm")) -> Juli | K5: =PROPER(TEXT(EDATE(1,1+6),"mmmm")) -> August | L5: =PROPER(TEXT(EDATE(1,1+7),"mmmm")) -> September | M5: =PROPER(TEXT(EDATE(1,1+8),"mmmm")) -> Oktober | N5: =PROPER(TEXT(EDATE(1,1+9),"mmmm")) -> November | O5: =PROPER(TEXT(EDATE(1,1+10),"mmmm")) -> December
A6: Indtægter:
A7: Produkt 1 | C7: =IF(COUNTA(D7:O7)=0,"",SUM(D7:O7)) -> 7038119 | D7: 958743 | E7: 274119 | F7: 632386 | G7: 843043 | H7: 150393 | I7: 242789 | J7: 632307 | K7: 764705 | L7: 543622 | M7: 879664 | N7: 124287 | O7: 992061
A8: Produkt 2 | C8: =IF(COUNTA(D8:O8)=0,"",SUM(D8:O8)) -> 8402321 | D8: 555909 | E8: 569955 | F8: 361429 | G8: 739201 | H8: 946403 | I8: 854621 | J8: 973219 | K8: 584266 | L8: 826946 | M8: 993557 | N8: 514054 | O8: 482761
A9: Produkt 3 | C9: =IF(COUNTA(D9:O9)=0,"",SUM(D9:O9)) -> 5947622 | D9: 673093 | E9: 438467 | F9: 255716 | G9: 667140 | H9: 569206 | I9: 595109 | J9: 716842 | K9: 645904 | L9: 536109 | M9: 308397 | N9: 40341 | O9: 501298
A10: Produkt 4 | C10: =IF(COUNTA(D10:O10)=0,"",SUM(D10:O10)) -> 6455861 | D10: 640169 | E10: 949414 | F10: 483826 | G10: 490581 | H10: 244617 | I10: 744177 | J10: 551581 | K10: 617686 | L10: 244746 | M10: 529650 | N10: 80625 | O10: 878789
A11: Produkt 5 | C11: =IF(COUNTA(D11:O11)=0,"",SUM(D11:O11)) -> 4753546 | D11: 135940 | E11: 111770 | F11: 515866 | G11: 430928 | H11: 480315 | I11: 755002 | J11: 889467 | K11: 228093 | L11: 337413 | M11: 285467 | N11: 212625 | O11: 370660
A12: Produkt 6 | C12: =IF(COUNTA(D12:O12)=0,"",SUM(D12:O12)) -> 6135137 | D12: 268183 | E12: 97402 | F12: 593609 | G12: 994061 | H12: 698202 | I12: 873705 | J12: 226377 | K12: 239095 | L12: 755282 | M12: 558570 | N12: 763792 | O12: 66859
A13: Produkt 7 | C13: =IF(COUNTA(D13:O13)=0,"",SUM(D13:O13)) -> 6169472 | D13: 710590 | E13: 32629 | F13: 822831 | G13: 426429 | H13: 506588 | I13: 768914 | J13: 209893 | K13: 760036 | L13: 344741 | M13: 782610 | N13: 498765 | O13: 305446
A14: Produkt 8 | C14: =IF(COUNTA(D14:O14)=0,"",SUM(D14:O14)) -> 7625753 | D14: 775184 | E14: 644293 | F14: 708821 | G14: 650607 | H14: 567419 | I14: 764541 | J14: 859945 | K14: 793655 | L14: 607535 | M14: 441975 | N14: 599386 | O14: 212392
A15: Samlede indtægter | C15: =SUM(C7:C14) -> 52527831 | D15: =SUM(D7:D14) -> 4717811 | E15: =SUM(E7:E14) -> 3118049 | F15: =SUM(F7:F14) -> 4374484 | G15: =SUM(G7:G14) -> 5241990 | H15: =SUM(H7:H14) -> 4163143 | I15: =SUM(I7:I14) -> 5598858 | J15: =SUM(J7:J14) -> 5059631 | ... O15: =SUM(O7:O14) -> 3810266
A16: Gennemsnits indtægt pr måned | D16: =AVERAGE(D15:O15) -> 4377319.2
C18: Total | D18: =D5 -> Januar | E18: =E5 -> Februar | F18: =F5 -> Marts | G18: =G5 -> April | H18: =H5 -> Maj | I18: =I5 -> Juni | J18: =J5 -> Juli | K18: =K5 -> August | ... O18: =O5 -> December
A19: Udgifter:
A20: Udgift 1 | C20: =IF(COUNTA(D20:O20)=0,"",SUM(D20:O20)) -> 616552 | D20: 27053 | E20: 38842 | F20: 42678 | G20: 99647 | H20: 18196 | I20: 30385 | J20: 55297 | K20: 40681 | L20: 20748 | M20: 82408 | N20: 73482 | O20: 87135
A21: Udgift 2 | C21: =IF(COUNTA(D21:O21)=0,"",SUM(D21:O21)) -> 526911 | D21: 84276 | E21: 25546 | F21: 23817 | G21: 42721 | H21: 22386 | I21: 10968 | J21: 57334 | K21: 63344 | L21: 73846 | M21: 25612 | N21: 39045 | O21: 58016
A22: Udgift 3 | C22: =IF(COUNTA(D22:O22)=0,"",SUM(D22:O22)) -> 624550 | D22: 11563 | E22: 52793 | F22: 18488 | G22: 28823 | H22: 98866 | I22: 87587 | J22: 87011 | K22: 14763 | L22: 67728 | M22: 66254 | N22: 70675 | O22: 19999
A23: Udgift 4 | C23: =IF(COUNTA(D23:O23)=0,"",SUM(D23:O23)) -> 798552 | D23: 49697 | E23: 77660 | F23: 77908 | G23: 54703 | H23: 56134 | I23: 83275 | J23: 57408 | K23: 80639 | L23: 70911 | M23: 59452 | N23: 67588 | O23: 63177
A24: Udgift 5 | C24: =IF(COUNTA(D24:O24)=0,"",SUM(D24:O24)) -> 762109 | D24: 60607 | E24: 68391 | F24: 63266 | G24: 79157 | H24: 95205 | I24: 44932 | J24: 83100 | K24: 40571 | L24: 48879 | M24: 70834 | N24: 77637 | O24: 29530
A25: Udgift 6 | C25: =IF(COUNTA(D25:O25)=0,"",SUM(D25:O25)) -> 735103 | D25: 80928 | E25: 24821 | F25: 97206 | G25: 68366 | H25: 66842 | I25: 47857 | J25: 67885 | K25: 34610 | L25: 69958 | M25: 54812 | N25: 96513 | O25: 25305
A26: Udgift 7 | C26: =IF(COUNTA(D26:O26)=0,"",SUM(D26:O26)) -> 678551 | D26: 46221 | E26: 77184 | F26: 36994 | G26: 65332 | H26: 43598 | I26: 84466 | J26: 24662 | K26: 75969 | L26: 15588 | M26: 99636 | N26: 20992 | O26: 87909
A27: Udgift 8 | C27: =IF(COUNTA(D27:O27)=0,"",SUM(D27:O27)) -> 829550 | D27: 57421 | E27: 99408 | F27: 46310 | G27: 88548 | H27: 92034 | I27: 91523 | J27: 85287 | K27: 96136 | L27: 40101 | M27: 33295 | N27: 56733 | O27: 42754
A28: Udgift 9 | C28: =IF(COUNTA(D28:O28)=0,"",SUM(D28:O28)) -> 656880 | D28: 92539 | E28: 17912 | F28: 94126 | G28: 60382 | H28: 66985 | I28: 93519 | J28: 12183 | K28: 17521 | L28: 27106 | M28: 39432 | N28: 41724 | O28: 93451
A29: Udgift 10 | C29: =IF(COUNTA(D29:O29)=0,"",SUM(D29:O29)) -> 702637 | D29: 89639 | E29: 41223 | F29: 45806 | G29: 76492 | H29: 98916 | I29: 48624 | J29: 72566 | K29: 60428 | L29: 26004 | M29: 51672 | N29: 20749 | O29: 70518
A30: Udgift 11 | C30: =IF(COUNTA(D30:O30)=0,"",SUM(D30:O30)) -> 722283 | D30: 62512 | E30: 25744 | F30: 91839 | G30: 95606 | H30: 58170 | I30: 33562 | J30: 56642 | K30: 75988 | L30: 15320 | M30: 95294 | N30: 84495 | O30: 27111
A31: Udgift 12 | C31: =IF(COUNTA(D31:O31)=0,"",SUM(D31:O31)) -> 647538 | D31: 95252 | E31: 60208 | F31: 77044 | G31: 28904 | H31: 36968 | I31: 24478 | J31: 15265 | K31: 99340 | L31: 98371 | M31: 61404 | N31: 20327 | O31: 29977
... A56: Udgift 37 | C56: =IF(COUNTA(D56:O56)=0,"",SUM(D56:O56)) -> 724628 | D56: 73767 | E56: 56101 | F56: 63977 | G56: 38873 | H56: 39382 | I56: 95615 | J56: 43959 | K56: 16535 | L56: 92758 | M56: 93057 | N56: 26507 | O56: 84097
A57: Udgift 38 | C57: =IF(COUNTA(D57:O57)=0,"",SUM(D57:O57))
A58: Udgift 39
A59: Udgift 40 | C59: =IF(COUNTA(D59:O59)=0,"",SUM(D59:O59))
A60: Samlede udgifter: | C60: =SUM(C20:C59) -> 25184463 | D60: =SUM(D20:D59) -> 2192117 | E60: =SUM(E20:E59) -> 1791910 | F60: =SUM(F20:F59) -> 2301736 | G60: =SUM(G20:G59) -> 2292236 | H60: =SUM(H20:H59) -> 2060874 | I60: =SUM(I20:I59) -> 2136046 | J60: =SUM(J20:J59) -> 2109424 | ... O60: =SUM(O20:O59) -> 1838266
A61: Gennemsnits udgift per md: | D61: =AVERAGE(D60:O60) -> 2098705.2
C63: I alt↓ | D63: =D5 -> Januar | E63: =E5 -> Februar | F63: =F5 -> Marts | G63: =G5 -> April | H63: =H5 -> Maj | I63: =I5 -> Juni | J63: =J5 -> Juli | K63: =K5 -> August | ... O63: =O5 -> December
A65: Balance | C65: =C15-C60 -> 27343368 | D65: =D15-D60 -> 2525694 | E65: =E15-E60 -> 1326139 | F65: =F15-F60 -> 2072748 | G65: =G15-G60 -> 2949754 | H65: =H15-H60 -> 2102269 | I65: =I15-I60 -> 3462812 | J65: =J15-J60 -> 2950207 | ... O65: =O15-O60 -> 1972000
A67: Saldo ved starten af perioden | C67: =C15-C60 -> 27343368 | D67: =D15-D60 -> 2525694 | E67: =E15-E60 -> 1326139 | F67: =F15-F60 -> 2072748 | G67: =G15-G60 -> 2949754 | H67: =H15-H60 -> 2102269 | I67: =I15-I60 -> 3462812 | J67: =J15-J60 -> 2950207 | ... O67: =O15-O60 -> 1972000
A68: Saldo ved slutningen af perioden | C68: =O68 -> 3944000 | D68: =SUM(D65+D67) -> 5051388 | E68: =SUM(E65+E67) -> 2652278 | F68: =SUM(F65+F67) -> 4145496 | G68: =SUM(G65+G67) -> 5899508 | H68: =SUM(H65+H67) -> 4204538 | I68: =SUM(I65+I67) -> 6925624 | J68: =SUM(J65+J67) -> 5900414 | K68: =SUM(K65+K67) -> 5211412 | ... O68: =SUM(O65+O67) -> 3944000
A70: Ved dette budget anbefales det at indbetale | D70: kr om måneden
A71: I øjeblikket kan budgettet reguleres med i alt : | C71: =ROUND((C60-C15)/12,0) -> -2278614 | D71: kr om måneden

Sheet Difference
C5: Total | D5: =Forside!$C$4 -> Januar | E5: =PROPER(TEXT(EDATE(1,1),"mmmm")) -> Februar | F5: =PROPER(TEXT(EDATE(1,1+1),"mmmm")) -> Marts | G5: =PROPER(TEXT(EDATE(1,2+1),"mmmm")) -> April | H5: =PROPER(TEXT(EDATE(1,3+1),"mmmm")) -> Maj | I5: =PROPER(TEXT(EDATE(1,1+4),"mmmm")) -> Juni | J5: =PROPER(TEXT(EDATE(1,1+5),"mmmm")) -> Juli | K5: =PROPER(TEXT(EDATE(1,1+6),"mmmm")) -> August | L5: =PROPER(TEXT(EDATE(1,1+7),"mmmm")) -> September | M5: =PROPER(TEXT(EDATE(1,1+8),"mmmm")) -> Oktober | N5: =PROPER(TEXT(EDATE(1,1+9),"mmmm")) -> November | O5: =PROPER(TEXT(EDATE(1,1+10),"mmmm")) -> December
A6: Indtægter:
A7: Produkt 1 | C7: =IF(COUNTA(D7:O7)=0,"",SUM(D7:O7)) -> 6339438 | D7: =Faktisk!D7-Budget!D7 -> 930443 | E7: =Faktisk!E7-Budget!E7 -> 249575 | F7: =Faktisk!F7-Budget!F7 -> 541905 | G7: =Faktisk!G7-Budget!G7 -> 797344 | H7: =Faktisk!H7-Budget!H7 -> 137343 | I7: =Faktisk!I7-Budget!I7 -> 184025 | J7: =Faktisk!J7-Budget!J7 -> 532820 | K7: =Faktisk!K7-Budget!K7 -> 700414 | ... O7: =Faktisk!O7-Budget!O7 -> 977303
A8: Produkt 2 | C8: =IF(COUNTA(D8:O8)=0,"",SUM(D8:O8)) -> 7825971 | D8: =Faktisk!D8-Budget!D8 -> 535846 | E8: =Faktisk!E8-Budget!E8 -> 540896 | F8: =Faktisk!F8-Budget!F8 -> 287669 | G8: =Faktisk!G8-Budget!G8 -> 644583 | H8: =Faktisk!H8-Budget!H8 -> 894739 | I8: =Faktisk!I8-Budget!I8 -> 829392 | J8: =Faktisk!J8-Budget!J8 -> 880456 | K8: =Faktisk!K8-Budget!K8 -> 568324 | ... O8: =Faktisk!O8-Budget!O8 -> 431662
A9: Produkt 3 | C9: =IF(COUNTA(D9:O9)=0,"",SUM(D9:O9)) -> 5267474 | D9: =Faktisk!D9-Budget!D9 -> 606317 | E9: =Faktisk!E9-Budget!E9 -> 382873 | F9: =Faktisk!F9-Budget!F9 -> 174028 | G9: =Faktisk!G9-Budget!G9 -> 578224 | H9: =Faktisk!H9-Budget!H9 -> 530092 | I9: =Faktisk!I9-Budget!I9 -> 558284 | J9: =Faktisk!J9-Budget!J9 -> 681708 | K9: =Faktisk!K9-Budget!K9 -> 594121 | ... O9: =Faktisk!O9-Budget!O9 -> 418753
A10: Produkt 4 | C10: =IF(COUNTA(D10:O10)=0,"",SUM(D10:O10)) -> 5978993 | D10: =Faktisk!D10-Budget!D10 -> 617348 | E10: =Faktisk!E10-Budget!E10 -> 870886 | F10: =Faktisk!F10-Budget!F10 -> 477084 | G10: =Faktisk!G10-Budget!G10 -> 482033 | H10: =Faktisk!H10-Budget!H10 -> 215576 | I10: =Faktisk!I10-Budget!I10 -> 681763 | J10: =Faktisk!J10-Budget!J10 -> 491048 | K10: =Faktisk!K10-Budget!K10 -> 576615 | ... O10: =Faktisk!O10-Budget!O10 -> 876936
A11: Produkt 5 | C11: =IF(COUNTA(D11:O11)=0,"",SUM(D11:O11)) -> 3889806 | D11: =Faktisk!D11-Budget!D11 -> 64565 | E11: =Faktisk!E11-Budget!E11 -> 15467 | F11: =Faktisk!F11-Budget!F11 -> 468822 | G11: =Faktisk!G11-Budget!G11 -> 357830 | H11: =Faktisk!H11-Budget!H11 -> 399483 | I11: =Faktisk!I11-Budget!I11 -> 664548 | J11: =Faktisk!J11-Budget!J11 -> 826470 | K11: =Faktisk!K11-Budget!K11 -> 166688 | ... O11: =Faktisk!O11-Budget!O11 -> 306358
A12: Produkt 6 | C12: =IF(COUNTA(D12:O12)=0,"",SUM(D12:O12)) -> 5608357 | D12: =Faktisk!D12-Budget!D12 -> 254269 | E12: =Faktisk!E12-Budget!E12 -> 47211 | F12: =Faktisk!F12-Budget!F12 -> 517937 | G12: =Faktisk!G12-Budget!G12 -> 965869 | H12: =Faktisk!H12-Budget!H12 -> 683633 | I12: =Faktisk!I12-Budget!I12 -> 797917 | J12: =Faktisk!J12-Budget!J12 -> 130537 | K12: =Faktisk!K12-Budget!K12 -> 231462 | ... O12: =Faktisk!O12-Budget!O12 -> -13480
A13: Produkt 7 | C13: =IF(COUNTA(D13:O13)=0,"",SUM(D13:O13)) -> 5490380 | D13: =Faktisk!D13-Budget!D13 -> 665625 | E13: =Faktisk!E13-Budget!E13 -> -51013 | F13: =Faktisk!F13-Budget!F13 -> 750604 | G13: =Faktisk!G13-Budget!G13 -> 363628 | H13: =Faktisk!H13-Budget!H13 -> 444110 | I13: =Faktisk!I13-Budget!I13 -> 723316 | J13: =Faktisk!J13-Budget!J13 -> 114796 | K13: =Faktisk!K13-Budget!K13 -> 685757 | ... O13: =Faktisk!O13-Budget!O13 -> 232750
A14: Produkt 8 | C14: =IF(COUNTA(D14:O14)=0,"",SUM(D14:O14)) -> 7050056 | D14: =Faktisk!D14-Budget!D14 -> 750924 | E14: =Faktisk!E14-Budget!E14 -> 589325 | F14: =Faktisk!F14-Budget!F14 -> 611256 | G14: =Faktisk!G14-Budget!G14 -> 561694 | H14: =Faktisk!H14-Budget!H14 -> 527707 | I14: =Faktisk!I14-Budget!I14 -> 753056 | J14: =Faktisk!J14-Budget!J14 -> 837485 | K14: =Faktisk!K14-Budget!K14 -> 741535 | ... O14: =Faktisk!O14-Budget!O14 -> 177253
A15: Samlede indtægter | C15: =SUM(C7:C14) -> 47450475 | D15: =SUM(D7:D14) -> 4425337 | E15: =SUM(E7:E14) -> 2645220 | F15: =SUM(F7:F14) -> 3829305 | G15: =SUM(G7:G14) -> 4751205 | H15: =SUM(H7:H14) -> 3832683 | I15: =SUM(I7:I14) -> 5192301 | J15: =SUM(J7:J14) -> 4495320 | ... O15: =SUM(O7:O14) -> 3407535
A16: Gennemsnits indtægt pr måned | D16: =AVERAGE(D15:O15) -> 3954206.2
C18: Total | D18: =D5 -> Januar | E18: =E5 -> Februar | F18: =F5 -> Marts | G18: =G5 -> April | H18: =H5 -> Maj | I18: =I5 -> Juni | J18: =J5 -> Juli | K18: =K5 -> August | ... O18: =O5 -> December
A19: Udgifter:
A20: Udgift 1 | C20: =IF(COUNTA(D20:O20)=0,"",SUM(D20:O20)) -> 574565 | D20: =Faktisk!D20-Budget!D20 -> 22686 | E20: =Faktisk!E20-Budget!E20 -> 37648 | F20: =Faktisk!F20-Budget!F20 -> 33539 | G20: =Faktisk!G20-Budget!G20 -> 94624 | H20: =Faktisk!H20-Budget!H20 -> 15175 | I20: =Faktisk!I20-Budget!I20 -> 28246 | J20: =Faktisk!J20-Budget!J20 -> 52950 | K20: =Faktisk!K20-Budget!K20 -> 39074 | ... O20: =Faktisk!O20-Budget!O20 -> 81926
A21: Udgift 2 | C21: =IF(COUNTA(D21:O21)=0,"",SUM(D21:O21)) -> 473794 | D21: =Faktisk!D21-Budget!D21 -> 77112 | E21: =Faktisk!E21-Budget!E21 -> 22929 | F21: =Faktisk!F21-Budget!F21 -> 23658 | G21: =Faktisk!G21-Budget!G21 -> 33127 | H21: =Faktisk!H21-Budget!H21 -> 18132 | I21: =Faktisk!I21-Budget!I21 -> 10697 | J21: =Faktisk!J21-Budget!J21 -> 48755 | K21: =Faktisk!K21-Budget!K21 -> 57295 | ... O21: =Faktisk!O21-Budget!O21 -> 55894
A22: Udgift 3 | C22: =IF(COUNTA(D22:O22)=0,"",SUM(D22:O22)) -> 552162 | D22: =Faktisk!D22-Budget!D22 -> 8934 | E22: =Faktisk!E22-Budget!E22 -> 46314 | F22: =Faktisk!F22-Budget!F22 -> 13538 | G22: =Faktisk!G22-Budget!G22 -> 26800 | H22: =Faktisk!H22-Budget!H22 -> 98506 | I22: =Faktisk!I22-Budget!I22 -> 85045 | J22: =Faktisk!J22-Budget!J22 -> 77157 | K22: =Faktisk!K22-Budget!K22 -> 5781 | ... O22: =Faktisk!O22-Budget!O22 -> 10513
A23: Udgift 4 | C23: =IF(COUNTA(D23:O23)=0,"",SUM(D23:O23)) -> 738908 | D23: =Faktisk!D23-Budget!D23 -> 42589 | E23: =Faktisk!E23-Budget!E23 -> 67854 | F23: =Faktisk!F23-Budget!F23 -> 72075 | G23: =Faktisk!G23-Budget!G23 -> 54525 | H23: =Faktisk!H23-Budget!H23 -> 46311 | I23: =Faktisk!I23-Budget!I23 -> 81243 | J23: =Faktisk!J23-Budget!J23 -> 55347 | K23: =Faktisk!K23-Budget!K23 -> 79875 | ... O23: =Faktisk!O23-Budget!O23 -> 55173
A24: Udgift 5 | C24: =IF(COUNTA(D24:O24)=0,"",SUM(D24:O24)) -> 687020 | D24: =Faktisk!D24-Budget!D24 -> 58226 | E24: =Faktisk!E24-Budget!E24 -> 63579 | F24: =Faktisk!F24-Budget!F24 -> 54484 | G24: =Faktisk!G24-Budget!G24 -> 70264 | H24: =Faktisk!H24-Budget!H24 -> 90702 | I24: =Faktisk!I24-Budget!I24 -> 39699 | J24: =Faktisk!J24-Budget!J24 -> 75209 | K24: =Faktisk!K24-Budget!K24 -> 32770 | ... O24: =Faktisk!O24-Budget!O24 -> 20651
A25: Udgift 6 | C25: =IF(COUNTA(D25:O25)=0,"",SUM(D25:O25)) -> 661611 | D25: =Faktisk!D25-Budget!D25 -> 79450 | E25: =Faktisk!E25-Budget!E25 -> 15948 | F25: =Faktisk!F25-Budget!F25 -> 87816 | G25: =Faktisk!G25-Budget!G25 -> 58739 | H25: =Faktisk!H25-Budget!H25 -> 60968 | I25: =Faktisk!I25-Budget!I25 -> 47184 | J25: =Faktisk!J25-Budget!J25 -> 61258 | K25: =Faktisk!K25-Budget!K25 -> 29168 | ... O25: =Faktisk!O25-Budget!O25 -> 16308
A26: Udgift 7 | C26: =IF(COUNTA(D26:O26)=0,"",SUM(D26:O26)) -> 632455 | D26: =Faktisk!D26-Budget!D26 -> 39079 | E26: =Faktisk!E26-Budget!E26 -> 73113 | F26: =Faktisk!F26-Budget!F26 -> 34972 | G26: =Faktisk!G26-Budget!G26 -> 62944 | H26: =Faktisk!H26-Budget!H26 -> 40964 | I26: =Faktisk!I26-Budget!I26 -> 83262 | J26: =Faktisk!J26-Budget!J26 -> 19941 | K26: =Faktisk!K26-Budget!K26 -> 75304 | ... O26: =Faktisk!O26-Budget!O26 -> 82490
A27: Udgift 8 | C27: =IF(COUNTA(D27:O27)=0,"",SUM(D27:O27)) -> 767395 | D27: =Faktisk!D27-Budget!D27 -> 48469 | E27: =Faktisk!E27-Budget!E27 -> 89630 | F27: =Faktisk!F27-Budget!F27 -> 37002 | G27: =Faktisk!G27-Budget!G27 -> 86702 | H27: =Faktisk!H27-Budget!H27 -> 90640 | I27: =Faktisk!I27-Budget!I27 -> 84922 | J27: =Faktisk!J27-Budget!J27 -> 79967 | K27: =Faktisk!K27-Budget!K27 -> 92515 | ... O27: =Faktisk!O27-Budget!O27 -> 41379
A28: Udgift 9 | C28: =IF(COUNTA(D28:O28)=0,"",SUM(D28:O28)) -> 592332 | D28: =Faktisk!D28-Budget!D28 -> 82783 | E28: =Faktisk!E28-Budget!E28 -> 8746 | F28: =Faktisk!F28-Budget!F28 -> 86284 | G28: =Faktisk!G28-Budget!G28 -> 55650 | H28: =Faktisk!H28-Budget!H28 -> 64099 | I28: =Faktisk!I28-Budget!I28 -> 87563 | J28: =Faktisk!J28-Budget!J28 -> 5127 | K28: =Faktisk!K28-Budget!K28 -> 10836 | ... O28: =Faktisk!O28-Budget!O28 -> 93345
A29: Udgift 10 | C29: =IF(COUNTA(D29:O29)=0,"",SUM(D29:O29)) -> 645073 | D29: =Faktisk!D29-Budget!D29 -> 81944 | E29: =Faktisk!E29-Budget!E29 -> 31289 | F29: =Faktisk!F29-Budget!F29 -> 40177 | G29: =Faktisk!G29-Budget!G29 -> 70632 | H29: =Faktisk!H29-Budget!H29 -> 90246 | I29: =Faktisk!I29-Budget!I29 -> 48590 | J29: =Faktisk!J29-Budget!J29 -> 68718 | K29: =Faktisk!K29-Budget!K29 -> 56147 | ... O29: =Faktisk!O29-Budget!O29 -> 67648
A30: Udgift 11 | C30: =IF(COUNTA(D30:O30)=0,"",SUM(D30:O30)) -> 678312 | D30: =Faktisk!D30-Budget!D30 -> 62484 | E30: =Faktisk!E30-Budget!E30 -> 22553 | F30: =Faktisk!F30-Budget!F30 -> 84514 | G30: =Faktisk!G30-Budget!G30 -> 88328 | H30: =Faktisk!H30-Budget!H30 -> 53537 | I30: =Faktisk!I30-Budget!I30 -> 30789 | J30: =Faktisk!J30-Budget!J30 -> 55518 | K30: =Faktisk!K30-Budget!K30 -> 66517 | ... O30: =Faktisk!O30-Budget!O30 -> 26802
A31: Udgift 12 | C31: =IF(COUNTA(D31:O31)=0,"",SUM(D31:O31)) -> 584627 | D31: =Faktisk!D31-Budget!D31 -> 85698 | E31: =Faktisk!E31-Budget!E31 -> 55765 | F31: =Faktisk!F31-Budget!F31 -> 73144 | G31: =Faktisk!G31-Budget!G31 -> 20216 | H31: =Faktisk!H31-Budget!H31 -> 29721 | I31: =Faktisk!I31-Budget!I31 -> 24028 | J31: =Faktisk!J31-Budget!J31 -> 12850 | K31: =Faktisk!K31-Budget!K31 -> 97596 | ... O31: =Faktisk!O31-Budget!O31 -> 22991
... A56: Udgift 37 | C56: =IF(COUNTA(D56:O56)=0,"",SUM(D56:O56)) -> 665497 | D56: =Faktisk!D56-Budget!D56 -> 68077 | E56: =Faktisk!E56-Budget!E56 -> 50071 | F56: =Faktisk!F56-Budget!F56 -> 58677 | G56: =Faktisk!G56-Budget!G56 -> 31533 | H56: =Faktisk!H56-Budget!H56 -> 34255 | I56: =Faktisk!I56-Budget!I56 -> 93131 | J56: =Faktisk!J56-Budget!J56 -> 42274 | K56: =Faktisk!K56-Budget!K56 -> 8008 | ... O56: =Faktisk!O56-Budget!O56 -> 75345
A57: Udgift 38 | C57: =IF(COUNTA(D57:O57)=0,"",SUM(D57:O57))
A58: Udgift 39 | C58: =IF(COUNTA(D58:O58)=0,"",SUM(D58:O58))
A59: Udgift 40 | C59: =IF(COUNTA(D59:O59)=0,"",SUM(D59:O59))
A60: Samlede udgifter | C60: =SUM(C20:C59) -> 23014216 | D60: =SUM(D20:D59) -> 1995457 | E60: =SUM(E20:E59) -> 1578923 | F60: =SUM(F20:F59) -> 2103097 | G60: =SUM(G20:G59) -> 2098928 | H60: =SUM(H20:H59) -> 1893229 | I60: =SUM(I20:I59) -> 1998190 | J60: =SUM(J20:J59) -> 1932554 | ... O60: =SUM(O20:O59) -> 1667088
A61: Gennemsnits udgift per md: | D61: =AVERAGE(D60:O60) -> 1917851.3
C63: Total | D63: =D5 -> Januar | E63: =E5 -> Februar | F63: =F5 -> Marts | G63: =G5 -> April | H63: =H5 -> Maj | I63: =I5 -> Juni | J63: =J5 -> Juli | K63: =K5 -> August | ... O63: =O5 -> December
A65: Balance | C65: =C15-C60 -> 24436259 | D65: =D15-D60 -> 2429880 | E65: =E15-E60 -> 1066297 | F65: =F15-F60 -> 1726208 | G65: =G15-G60 -> 2652277 | H65: =H15-H60 -> 1939454 | I65: =I15-I60 -> 3194111 | J65: =J15-J60 -> 2562766 | ... O65: =O15-O60 -> 1740447
A67: Saldo ved starten af perioden | C67: =C15-C60 -> 24436259 | D67: =D15-D60 -> 2429880 | E67: =E15-E60 -> 1066297 | F67: =F15-F60 -> 1726208 | G67: =G15-G60 -> 2652277 | H67: =H15-H60 -> 1939454 | I67: =I15-I60 -> 3194111 | J67: =J15-J60 -> 2562766 | ... O67: =O15-O60 -> 1740447
A68: Saldo ved slutningen af perioden | C68: =O68 -> 3480894 | D68: =SUM(D65+D67) -> 4859760 | E68: =SUM(E65+E67) -> 2132594 | F68: =SUM(F65+F67) -> 3452416 | G68: =SUM(G65+G67) -> 5304554 | H68: =SUM(H65+H67) -> 3878908 | I68: =SUM(I65+I67) -> 6388222 | J68: =SUM(J65+J67) -> 5125532 | K68: =SUM(K65+K67) -> 4875598 | ... O68: =SUM(O65+O67) -> 3480894
A70: Ved dette budget anbefales det at indbetale | D70: kr om måneden
A71: I øjeblikket kan budgettet reguleres med i alt : | C71: =ROUND((C60-C15)/12,0) -> -2036355 | D71: kr om måneden
